BEGIN:VCALENDAR
VERSION:2.0
PRODID:-//Tukios.com/
BEGIN:VEVENT
UID:523d4bb0-f86c-49f4-a547-ef49d4a23723@www.higgins-reardon.com
DTSTAMP:20260421T202926Z
DTSTART:20260422T140000Z
DTEND:20260422T150000Z
SUMMARY:Calling Hours
DESCRIPTION:
URL:https://www.higgins-reardon.com/obituaries/marjorie-lesicko
LOCATION:     
GEO:0;0
END:VEVENT
END:VCALENDAR