BEGIN:VCALENDAR
VERSION:2.0
PRODID:-//Tukios.com/
BEGIN:VEVENT
UID:fa09d436-71f3-4b74-a013-5f8f4b8ca159@www.higgins-reardon.com
DTSTAMP:20260421T203135Z
DTSTART:20260422T150000Z
DTEND:20260422T153000Z
SUMMARY:Funeral Service
DESCRIPTION:
URL:https://www.higgins-reardon.com/obituaries/marjorie-lesicko
LOCATION:     
GEO:0;0
END:VEVENT
END:VCALENDAR