BEGIN:VCALENDAR
VERSION:2.0
PRODID:-//Tukios.com/
BEGIN:VEVENT
UID:60e165f1-5ee0-449e-a6ef-63a697a49bb4@www.higgins-reardon.com
DTSTAMP:20260421T183103Z
DTSTART:20260424T150000Z
DTEND:20260424T154500Z
SUMMARY:Funeral Service
DESCRIPTION:
URL:https://www.higgins-reardon.com/obituaries/margaret-fox
LOCATION:Poland Presbyterian Church 2 Poland Manor  Poland OH 44514
GEO:41.0187219;-80.6089345
END:VEVENT
END:VCALENDAR