BEGIN:VCALENDAR
VERSION:2.0
PRODID:-//Tukios.com/
BEGIN:VEVENT
UID:5250425e-242a-4ca3-8f56-9662903afc31@www.higgins-reardon.com
DTSTAMP:20260421T183103Z
DTSTART:20260424T140000Z
DTEND:20260424T144500Z
SUMMARY:Visitation
DESCRIPTION:
URL:https://www.higgins-reardon.com/obituaries/margaret-fox
LOCATION:Poland Presbyterian Church 2 Poland Manor  Poland OH 44514
GEO:41.0187219;-80.6089345
END:VEVENT
END:VCALENDAR