BEGIN:VCALENDAR
VERSION:2.0
PRODID:-//Tukios.com/
BEGIN:VEVENT
UID:211ebf46-5772-4343-a413-80f6457a265e@www.higgins-reardon.com
DTSTAMP:20260421T162944Z
DTSTART:20260423T210000Z
DTEND:20260423T230000Z
SUMMARY:Calling Hours
DESCRIPTION:
URL:https://www.higgins-reardon.com/obituaries/dolores-nadrich
LOCATION:Higgins-Reardon Funeral Homes, Boardman-Canfield Chapel 3701 
	Starr's Centre Dr.  Canfield OH 44406
GEO:41.0251276;-80.7135955
END:VEVENT
END:VCALENDAR