BEGIN:VCALENDAR
VERSION:2.0
PRODID:-//Tukios.com/
BEGIN:VEVENT
UID:65775041-b02d-451c-89fb-0a8a16cee243@www.higgins-reardon.com
DTSTAMP:20260421T165351Z
DTSTART:20260423T153000Z
DTEND:20260423T163000Z
SUMMARY:Mass
DESCRIPTION:
URL:https://www.higgins-reardon.com/obituaries/barbara-villani-2026
LOCATION: 2729 Center Rd  Youngstown OH 44514
GEO:41.0226746;-80.5998191
END:VEVENT
END:VCALENDAR