BEGIN:VCALENDAR
VERSION:2.0
PRODID:-//Tukios.com/
BEGIN:VEVENT
UID:5fa8a8d6-2b91-427f-b853-4b16bf034323@www.higgins-reardon.com
DTSTAMP:20260421T165559Z
DTSTART:20260423T150000Z
DTEND:20260423T151500Z
SUMMARY:Prayer Service
DESCRIPTION:
URL:https://www.higgins-reardon.com/obituaries/barbara-villani-2026
LOCATION: 2726 Center Rd  Youngstown OH 44514
GEO:41.0241592;-80.6003722
END:VEVENT
END:VCALENDAR