BEGIN:VCALENDAR
VERSION:2.0
PRODID:-//Tukios.com/
BEGIN:VEVENT
UID:8303c784-c934-4885-8e0a-b4191d6323c0@www.higgins-reardon.com
DTSTAMP:20260421T165844Z
DTSTART:20260423T140000Z
DTEND:20260423T150000Z
SUMMARY:Visitation
DESCRIPTION:
URL:https://www.higgins-reardon.com/obituaries/barbara-villani-2026
LOCATION: 2726 Center Rd  Youngstown OH 44514
GEO:41.0241592;-80.6003722
END:VEVENT
END:VCALENDAR