BEGIN:VCALENDAR
VERSION:2.0
PRODID:-//Tukios.com/
BEGIN:VEVENT
UID:4c769fc9-24b4-4fbe-b0dd-36d39ae282d9@www.higgins-reardon.com
DTSTAMP:20260421T170140Z
DTSTART:20260422T210000Z
DTEND:20260422T230000Z
SUMMARY:Visitation
DESCRIPTION:
URL:https://www.higgins-reardon.com/obituaries/barbara-villani-2026
LOCATION: 2726 Center Rd  Youngstown OH 44514
GEO:41.0241592;-80.6003722
END:VEVENT
END:VCALENDAR